BEGIN:VCALENDAR
VERSION:2.0
PRODID:-//Vanish Farmwoods Brewery - ECPv6.15.20//NONSGML v1.0//EN
CALSCALE:GREGORIAN
METHOD:PUBLISH
X-WR-CALNAME:Vanish Farmwoods Brewery
X-ORIGINAL-URL:https://vanishbeer.com
X-WR-CALDESC:Events for Vanish Farmwoods Brewery
REFRESH-INTERVAL;VALUE=DURATION:PT1H
X-Robots-Tag:noindex
X-PUBLISHED-TTL:PT1H
BEGIN:VTIMEZONE
TZID:America/New_York
BEGIN:DAYLIGHT
TZOFFSETFROM:-0500
TZOFFSETTO:-0400
TZNAME:EDT
DTSTART:20250309T070000
END:DAYLIGHT
BEGIN:STANDARD
TZOFFSETFROM:-0400
TZOFFSETTO:-0500
TZNAME:EST
DTSTART:20251102T060000
END:STANDARD
BEGIN:DAYLIGHT
TZOFFSETFROM:-0500
TZOFFSETTO:-0400
TZNAME:EDT
DTSTART:20260308T070000
END:DAYLIGHT
BEGIN:STANDARD
TZOFFSETFROM:-0400
TZOFFSETTO:-0500
TZNAME:EST
DTSTART:20261101T060000
END:STANDARD
BEGIN:DAYLIGHT
TZOFFSETFROM:-0500
TZOFFSETTO:-0400
TZNAME:EDT
DTSTART:20270314T070000
END:DAYLIGHT
BEGIN:STANDARD
TZOFFSETFROM:-0400
TZOFFSETTO:-0500
TZNAME:EST
DTSTART:20271107T060000
END:STANDARD
END:VTIMEZONE
BEGIN:VEVENT
DTSTART;TZID=America/New_York:20261122T130000
DTEND;TZID=America/New_York:20261122T160000
DTSTAMP:20260425T072346
CREATED:20251230T120748Z
LAST-MODIFIED:20260330T120705Z
UID:10001157-1795352400-1795363200@vanishbeer.com
SUMMARY:Shredded Cheddar
DESCRIPTION:Shredding onto the Northern Virginia music scene\, local duo Shredded Cheddar is sharp and ready to rock!
URL:https://vanishbeer.com/event/shredded-cheddar/2026-11-22/
LOCATION:Vanish\, 42245 Black Hops Lane\, Leesburg\, VA\, 20176\, United States
CATEGORIES:Music
ATTACH;FMTTYPE=image/png:https://vanishbeer.com/wp-content/uploads/2025/12/cheddar.png
END:VEVENT
END:VCALENDAR